BEGIN:VCALENDAR
VERSION:2.0
PRODID:-//wp-events-plugin.com//7.2.2.1//EN
TZID:Europe/Berlin
X-WR-TIMEZONE:Europe/Berlin
BEGIN:VEVENT
UID:82@feuer-im-herzen.net
DTSTART;TZID=Europe/Berlin:20240320T190000
DTEND;TZID=Europe/Berlin:20240320T203000
DTSTAMP:20240115T084802Z
URL:https://feuer-im-herzen.net/events/online-themenabend-12/
SUMMARY:Online Themenabend
DESCRIPTION:Dieser Abend bietet die Möglichkeit\, den Glauben zu stärken 
 und immer tiefer Gottes Liebe zu erfahren.\n\nWir tauchen ein in Sein Wort
 \, zu dem du Fragen stellen kannst. Es gibt immer ein anderes Thema aus de
 r Schrift. Wir beten gemeinsam und danken Gott mit Lobpreis und Musik.\n\n
 Unser Herr Jesus Christus aber und Gott\, unser Vater\, der uns seine Lieb
 e geschenkt und in seiner Barmherzigkeit einen unvergänglichen Trost und 
 eine verlässliche Hoffnung gegeben hat\, er ermutige euch und gebe euch K
 raft\, Gutes zu tun in Wort und Tat.\n(2. Thess. 2:16-17)\n\nWir freuen un
 s auf die gemeinsame Zeit mit euch.
ATTACH;FMTTYPE=image/jpeg:https://feuer-im-herzen.net/wp-content/uploads/2
 023/03/ThemenabendMe.jpg
CATEGORIES:Zoom
END:VEVENT
BEGIN:VTIMEZONE
TZID:Europe/Berlin
X-LIC-LOCATION:Europe/Berlin
BEGIN:STANDARD
DTSTART:20231029T020000
TZOFFSETFROM:+0200
TZOFFSETTO:+0100
TZNAME:CET
END:STANDARD
END:VTIMEZONE
END:VCALENDAR