BEGIN:VCALENDAR
VERSION:2.0
PRODID:-//wp-events-plugin.com//7.2.2.1//EN
TZID:Europe/Berlin
X-WR-TIMEZONE:Europe/Berlin
BEGIN:VEVENT
UID:38@feuer-im-herzen.net
DTSTART;TZID=Europe/Berlin:20230510T190000
DTEND;TZID=Europe/Berlin:20230510T210000
DTSTAMP:20230411T122450Z
URL:https://feuer-im-herzen.net/events/online-heilabend-3/
SUMMARY:Online Heilabend
DESCRIPTION:Befreiung durch das Gebet des Glaubens\n\nUnser Körper ist ein
  Tempel Gottes und wir möchten in ihm allein Gottes Herrlichkeit Raum geb
 en\, sodass wir erfüllt sind mit Seiner Liebe\, Frieden\, Freude\, Gesund
 heit und Vollkommenheit. Alles andere\, was nicht hineingehört\, was nich
 t von Gott kommt\, wie Sorgen\, Ängste\, Schmerz und Leid\, muss Seinem L
 icht weichen.\n\nDenn so wie Gott einmal befahl: »Licht soll aus der Dunk
 elheit hervorbrechen!«\, so hat Sein Licht auch unsere Herzen erhellt. Je
 tzt erkennen wir klar\, dass uns in Jesus Christus Gottes Herrlichkeit ent
 gegenstrahlt. Diesen kostbaren Schatz tragen wir in uns\, obwohl wir nur z
 erbrechliche Gefäße sind. So wird jeder erkennen\, dass die außerordent
 liche Kraft\, die in uns wirkt\, von Gott kommt und nicht von uns selbst. 
 2. Kor. 4:6-7\n\nWir beten für unsere Mitmenschen das Gebet des Glaubens\
 , halten Fürbitte und bitten um die Kraft Gottes\, dass Sein Geist\, Heil
 ig Geist wirkt und Befreiung und Heilung geschieht.\n\nEr kann euch so rei
 ch beschenken\, ja\, mit Gutem geradezu überschütten\, dass ihr zu jeder
  Zeit alles habt\, was ihr braucht\, und mehr als das.\n(2. Kor. 9:8)
ATTACH;FMTTYPE=image/jpeg:https://feuer-im-herzen.net/wp-content/uploads/2
 023/03/Online-Heilabend-3.jpg
CATEGORIES:Zoom
END:VEVENT
BEGIN:VTIMEZONE
TZID:Europe/Berlin
X-LIC-LOCATION:Europe/Berlin
BEGIN:DAYLIGHT
DTSTART:20230326T030000
TZOFFSETFROM:+0100
TZOFFSETTO:+0200
TZNAME:CEST
END:DAYLIGHT
END:VTIMEZONE
END:VCALENDAR