BEGIN:VCALENDAR
VERSION:2.0
PRODID:-//wp-events-plugin.com//7.2.2.1//EN
TZID:Europe/Berlin
X-WR-TIMEZONE:Europe/Berlin
BEGIN:VEVENT
UID:86@feuer-im-herzen.net
DTSTART;TZID=Europe/Berlin;VALUE=DATE:20240512
DTEND;TZID=Europe/Berlin;VALUE=DATE:20240527
DTSTAMP:20240427T195703Z
URL:https://feuer-im-herzen.net/events/juengerschaft-in-afrika-bei-maria-p
 rean/
SUMMARY:Jüngerschaft in Afrika/Uganda bei Maria Prean
DESCRIPTION:Du liebst Jesus und möchtest Ihn besser kennenlernen und Ihm n
 achfolgen?\n\nWir laden dich ein\, deine Beziehung zu Gott und Jesus zu ve
 rtiefen und in der Jüngerschaft zu wachsen.\n\nJünger sind Menschen\, di
 e Jesus nachfolgen und ausgerüstet werden\, so dass sie gleiches tun werd
 en und größeres (s. Joh. 14.12)\n\nJesus gab seinen Jüngern einen Auftr
 ag\, der noch immer gilt\, alle Völker zu Jüngern zu machen\, sie zu leh
 ren und danach zu handeln (s. Math. 28.19)\n\nMit dieser Aufgabe lässt Je
 sus uns nicht allein\, Er lehrt uns durch Sein Wort und den Heiligen Geist
 . Gott braucht Menschen durch die Er wirkt\, die das Evangelium verkünden
  und Er bestätigt Sein Wort durch Zeichen und Wunder (s. Mk 16.15-18)\nDu
  benötigst dafür keine besondere Begabung\, denn Gott begabt die Berufen
 en. Du wirst mehr und mehr in deine Bestimmung geführt\, gelehrt und ausg
 erüstet.\n\nMaria Prean ist ein Beispiel für die Nachfolge Jesu. Wir wer
 den das Missionswerk kennenlernen und sehen\, wie Gott durch sie gewirkt h
 at und es immer noch tut.\n\nWir verbringen diese Tage in Gemeinschaft\, i
 n Seinem Wort und in Seiner Liebe.\n\nWir freuen uns dich in Uganda begrü
 ßen zu dürfen.\n\nDas Team: Jesus\, Heiliger Geist\, Maria Prean\, Rolan
 d und Maren 😊\n\n\n\nSafari\nEs besteht die Möglichkeit an einer Safar
 i teilzunehmen. Hierfür kannst du eine Verlängerungswoche vor oder nach 
 dem Seminar dazu buchen.\nDetailierte Informationen zur Safari findest du 
 hier:\nhttps://visionforafrica-intl.org/wordpress/wp-content/uploads/2023/
 08/ComeSee-Safari_Pakuba-Lodge.pdf\n\nAlle Informationen für die Reise ha
 ben wir in einem PDF für dich zusammengestellt. PDF anzeigen\n\nBitte sch
 reibe uns ins Kommentarfeld wie du dich entscheidest.\n\nOhne Safari.\nIch
  möchte an der Safari vor dem Seminar teilnehmen.\nIch möchte an der Saf
 ari nach dem Seminar teilnehmen.\nIch überlege noch und melde mich späte
 r.
ATTACH;FMTTYPE=image/jpeg:https://feuer-im-herzen.net/wp-content/uploads/2
 024/01/Juengerschaft-Uganda2.jpg
CATEGORIES:Jüngerschaft
LOCATION:Gebetsberg / Uganda\, Vision for Afrika\, Vision for Africa Intl. 
 - Prayer Mountain for Leaders\, Tongolo II\, Njeru\, Uganda
X-APPLE-STRUCTURED-LOCATION;VALUE=URI;X-ADDRESS=Vision for Africa Intl. - P
 rayer Mountain for Leaders\, Tongolo II\, Njeru\, Uganda;X-APPLE-RADIUS=10
 0;X-TITLE=Gebetsberg / Uganda\, Vision for Afrika:geo:0,0
END:VEVENT
BEGIN:VTIMEZONE
TZID:Europe/Berlin
X-LIC-LOCATION:Europe/Berlin
BEGIN:DAYLIGHT
DTSTART:20240331T030000
TZOFFSETFROM:+0100
TZOFFSETTO:+0200
TZNAME:CEST
END:DAYLIGHT
END:VTIMEZONE
END:VCALENDAR